BEGIN:VCALENDAR
VERSION:2.0
PRODID:-//Radostné srdce - ECPv6.15.18//NONSGML v1.0//EN
CALSCALE:GREGORIAN
METHOD:PUBLISH
X-WR-CALNAME:Radostné srdce
X-ORIGINAL-URL:https://radostnesrdce.sk
X-WR-CALDESC:Udalosti pre Radostné srdce
REFRESH-INTERVAL;VALUE=DURATION:PT1H
X-Robots-Tag:noindex
X-PUBLISHED-TTL:PT1H
BEGIN:VTIMEZONE
TZID:Europe/Bratislava
BEGIN:DAYLIGHT
TZOFFSETFROM:+0100
TZOFFSETTO:+0200
TZNAME:CEST
DTSTART:20250330T010000
END:DAYLIGHT
BEGIN:STANDARD
TZOFFSETFROM:+0200
TZOFFSETTO:+0100
TZNAME:CET
DTSTART:20251026T010000
END:STANDARD
BEGIN:DAYLIGHT
TZOFFSETFROM:+0100
TZOFFSETTO:+0200
TZNAME:CEST
DTSTART:20260329T010000
END:DAYLIGHT
BEGIN:STANDARD
TZOFFSETFROM:+0200
TZOFFSETTO:+0100
TZNAME:CET
DTSTART:20261025T010000
END:STANDARD
BEGIN:DAYLIGHT
TZOFFSETFROM:+0100
TZOFFSETTO:+0200
TZNAME:CEST
DTSTART:20270328T010000
END:DAYLIGHT
BEGIN:STANDARD
TZOFFSETFROM:+0200
TZOFFSETTO:+0100
TZNAME:CET
DTSTART:20271031T010000
END:STANDARD
END:VTIMEZONE
BEGIN:VEVENT
DTSTART;VALUE=DATE:20260418
DTEND;VALUE=DATE:20260419
DTSTAMP:20260426T060222
CREATED:20260414T182059Z
LAST-MODIFIED:20260414T182059Z
UID:13777-1776470400-1776556799@radostnesrdce.sk
SUMMARY:3. Mojžišova 15;  Rimanom 2\,17-29
DESCRIPTION:3. Mojžišova 15\, 1Hospodin povedal Mojžišovi a Áronovi: 2„Povedzte Izraelitom toto: ‚Ak niektorý muž trpí na výtok z tela\, jeho výtok je nečistý. 3Nečistota jeho výtoku spočíva v tomto: či jeho telo výtok vylučuje\, alebo ho zadržuje\, ide o nečistotu. 4Nečisté bude každé lôžko\, na ktorom by ležal muž trpiaci na výtok\, a nečistý bude aj každý predmet\, na ktorom by sedel. 5Každý\, kto sa dotkne jeho lôžka\, musí si vyprať odev a umyť sa vodou; nečistý bude do večera. 6Kto si sadne na predmet\, na ktorom sedel muž trpiaci na výtok\, musí si vyprať odev a umyť sa vodou; nečistý bude do večera. 7Kto by sa dotkol tela toho\, kto trpí na výtok\, musí si vyprať odev a umyť sa vodou; nečistý bude do večera. 8Keby trpiaci na výtok opľul čistého\, ten si musí vyprať odev a umyť sa vodou; nečistý bude do večera. 9Každé sedlo\, na ktorom sedel trpiaci na výtok\, bude nečisté. 10Aj každý\, kto by sa dotkol čohokoľvek\, čo bolo pod trpiacim na výtok\, bude do večera nečistý. Kto by to prenášal\, musí si vyprať odev a umyť sa vodou; nečistý bude do večera. 11Každý\, kto by sa dotkol trpiaceho na výtok bez toho\, aby si ruky opláchol vodou\, musí si vyprať odev a umyť sa vodou; nečistý bude do večera. 12Hlinenú nádobu\, ktorej sa dotkol trpiaci na výtok\, treba rozbiť a všetko drevené náradie opláchnuť vodou.13Keď sa trpiaci na výtok od svojho výtoku očistí\, nech od svojho očistenia počíta sedem dní a nech si potom operie odev a umyje sa pramenitou vodou; bude čistý. 14Na ôsmy deň vezme dve hrdličky alebo dva holúbky\, predstúpi pred Hospodina ku vchodu do stanu stretávania a odovzdá ich kňazovi. 15Kňaz ich pripraví: jedno na obetu za hriech a druhé na spaľovanú obetu. Tým kňaz za jeho výtok vykoná zaňho obrad zmierenia pred Hospodinom.16Muž\, ktorý mal výron semena\, musí si vodou umyť celé telo a do večera bude nečistý. 17Každý odev a každý kožený predmet\, na ktorý sa dostalo semeno\, treba vyprať vo vode a bude to nečisté až do večera. 18Ak muž obcoval so ženou a pritom mal výron semena\, musia sa obaja umyť vodou a budú nečistí až do večera. 19Ak má žena výtok\, svoj pravidelný výtok krvi z tela\, zostane vo svojej nečistote sedem dní. Každý\, kto sa jej dotkne\, bude nečistý až do večera. 20Všetko\, na čo si v čase svojej pravidelnej nečistoty ľahne\, bude nečisté; a nečisté bude všetko\, na čo si sadne. 21Každý\, kto by sa dotkol jej lôžka\, vyperie si odev a umyje sa vodou a bude nečistý do večera. 22Každý\, kto by sa dotkol čohokoľvek\, na čom sedela\, vyperie si odev\, umyje sa vodou a bude nečistý do večera. 23Ak sa dotkne niečoho\, čo bolo na lôžku alebo na tom\, na čom sedela\, bude nečistý do večera. 24Keby muž s ňou predsa obcoval a dostala by sa naňho jej nečistota\, bude nečistý sedem dní. Nečisté bude aj každé lôžko\, na ktoré si ľahne.25Ak má žena dlhšie trvajúci krvotok pred časom svojho mesačného krvácania\, alebo ak trpí na výtok aj po mesačnom krvácaní\, bude po celý čas svojho výtoku nečistá ako pri mesačnej nečistote. 26Každé lôžko\, na ktoré si v období svojho výtoku ľahne\, bude ako lôžko počas jej krvácania. Každý predmet\, na ktorý si sadne\, bude nečistý ako pri nečistote jej krvácania. 27Každý\, kto by sa ich dotkol\, bude nečistý\, musí si oprať odev\, umyť sa vodou a nečistý zostane do večera. 28Keď sa žene výtok zastaví\, odpočíta sedem dní\, potom bude čistá. 29Na ôsmy deň vezme dve hrdličky alebo dva holúbky a prinesie ich kňazovi ku vchodu do stanu stretávania. 30Kňaz pripraví jedno na obetu za hriech a druhé na spaľovanú obetu. Tým kňaz za jej nečistý výtok vykoná za ňu obrad zmierenia pred Hospodinom.‘31Tak budete upozorňovať Izraelitov\, aby sa neznečisťovali a pre svoju nečistotu nezomreli\, keby poškvrnili môj príbytok\, ktorý je uprostred nich. 32Toto je zákon\, ktorý sa týka toho\, kto má výtok alebo výron semena\, ktorý ho znečisťuje. 33Týka sa aj tej\, ktorá má mesačný výtok\, i toho\, kto je postihnutý výtokom\, či je to muž\, alebo žena\, aj toho\, kto s nečistou obcuje.“ \nRimanom 2\, 17Ak sa ty nazývaš Židom a spoliehaš sa na Zákon\, chváliš sa Bohom\, 18poznáš jeho vôľu a poučovaný Zákonom skúmaš\, čo je dôležité\, 19a si presvedčený\, že si vodcom slepých\, svetlom tých\, čo sú v tme\, 20vychovávateľom nerozumných\, učiteľom nedospelých\, že v Zákone máš stelesnenie poznania a pravdy\, 21ty\, ktorý učíš iného\, seba nepoúčaš? Hlásaš: „Nepokradneš!“ a sám kradneš? 22Hovoríš: „Nescudzoložíš!“ a sám cudzoložíš? Ošklivíš si modly a vykrádaš svätyne? 23Hrdíš sa Zákonom\, ale prestupovaním Zákona zneucťuješ Boha\, 24ako je napísané: Pre vás sa medzi pohanmi rúhajú Božiemu menu. 25Obriezka je zaiste užitočná\, ak zachovávaš Zákon; ale ak prestupuješ Zákon\, tvoja obriezka sa stala neobriezkou. 26Ak teda neobrezaný zachováva požiadavky Zákona\, či sa jeho neobriezka nebude počítať za obriezku? 27A neobrezaný na tele\, ktorý plní Zákon\, bude súdiť teba\, ktorý napriek litere a obriezke prestupuješ Zákon. 28Lebo Židom nie je ten\, kto je ním navonok\, ani obriezkou nie je obriezka viditeľná na tele\, 29ale Židom je ten\, kto je ním v skrytosti\, a obriezkou je obriezka srdca podľa Ducha\, nie podľa litery. Jeho chvála nepochádza od ľudí\, ale od Boha.
URL:https://radostnesrdce.sk/udalost/3-mojzisova-15-rimanom-217-29/
CATEGORIES:Denné čítanie
ATTACH;FMTTYPE=image/png:https://radostnesrdce.sk/wp-content/uploads/2020/05/so-1030x541-1.png
END:VEVENT
END:VCALENDAR