BEGIN:VCALENDAR
VERSION:2.0
PRODID:-//Radostné srdce - ECPv6.15.18//NONSGML v1.0//EN
CALSCALE:GREGORIAN
METHOD:PUBLISH
X-WR-CALNAME:Radostné srdce
X-ORIGINAL-URL:https://radostnesrdce.sk
X-WR-CALDESC:Udalosti pre Radostné srdce
REFRESH-INTERVAL;VALUE=DURATION:PT1H
X-Robots-Tag:noindex
X-PUBLISHED-TTL:PT1H
BEGIN:VTIMEZONE
TZID:Europe/Bratislava
BEGIN:DAYLIGHT
TZOFFSETFROM:+0100
TZOFFSETTO:+0200
TZNAME:CEST
DTSTART:20250330T010000
END:DAYLIGHT
BEGIN:STANDARD
TZOFFSETFROM:+0200
TZOFFSETTO:+0100
TZNAME:CET
DTSTART:20251026T010000
END:STANDARD
BEGIN:DAYLIGHT
TZOFFSETFROM:+0100
TZOFFSETTO:+0200
TZNAME:CEST
DTSTART:20260329T010000
END:DAYLIGHT
BEGIN:STANDARD
TZOFFSETFROM:+0200
TZOFFSETTO:+0100
TZNAME:CET
DTSTART:20261025T010000
END:STANDARD
BEGIN:DAYLIGHT
TZOFFSETFROM:+0100
TZOFFSETTO:+0200
TZNAME:CEST
DTSTART:20270328T010000
END:DAYLIGHT
BEGIN:STANDARD
TZOFFSETFROM:+0200
TZOFFSETTO:+0100
TZNAME:CET
DTSTART:20271031T010000
END:STANDARD
END:VTIMEZONE
BEGIN:VEVENT
DTSTART;VALUE=DATE:20260421
DTEND;VALUE=DATE:20260422
DTSTAMP:20260426T003917
CREATED:20260420T173743Z
LAST-MODIFIED:20260420T173743Z
UID:13790-1776729600-1776815999@radostnesrdce.sk
SUMMARY:3. Mojžišova 18;  Rimanom 3\,21-26
DESCRIPTION:3. Mojžišova 18\, 1Hospodin oslovil Mojžiša: 2„Oznám Izraelitom a povedz im: ‚Ja som Hospodin\, váš Boh. 3Nesmiete sa správať tak\, ako to robia v Egypte\, kde ste bývali; ani nerobte tak\, ako robia v Kanaáne\, do ktorého vás vediem\, ani sa nesprávajte podľa ich ustanovení. 4Budete sa správať podľa mojich príkazov a budete zachovávať moje ustanovenia. Podľa nich sa budete správať\, lebo ja som Hospodin\, váš Boh. 5Budete zachovávať moje ustanovenia a moje príkazy. Človek\, ktorý bude podľa nich konať\, bude z nich žiť. Ja som Hospodin. 6Nikto sa nesmie priblížiť k svojej pokrvnej príbuznej\, aby ju svojím pomerom zneuctil. Ja som Hospodin. 7Nezneuctíš svojho otca tým\, že by si mal pomer so svojou matkou. Je to tvoja matka. Nezneuctíš ju. 8Nezneuctíš svojho otca pomerom s inou jeho ženou. To by zneuctilo tvojho otca. 9Nezneuctíš svojím pomerom svoju sestru\, teda dcéru svojho otca alebo dcéru svojej matky\, či sa narodila v tom istom dome alebo inde\, nezneuctíš ju. 10Nezneuctíš svojím pomerom synovu dcéru alebo dcérinu dcéru\, pretože tým zneuctíš seba. 11Nezneuctíš svojím pomerom dcéru inej ženy svojho otca\, pretože ju splodil tvoj otec a je tvojou sestrou. Preto ju nezneuctíš. 12Nezneuctíš svojím pomerom sestru svojho otca; je to blízka príbuzná tvojho otca. 13Nezneuctíš svojím pomerom matkinu sestru; je to blízka príbuzná tvojej matky. 14Nezneuctíš otcovho brata pomerom s jeho ženou; je to tvoja teta. 15Nezneuctíš svojím pomerom svoju nevestu; je to žena tvojho syna. Nezneuctíš ju. 16Nezneuctíš svojím pomerom bratovu ženu; tým by si zneuctil svojho brata. 17Nebudeš svojím pomerom zneuctievať nijakú ženu a zároveň jej dcéru. Nevezmeš si dcéru jej syna\, ani dcéru jej dcéry; nesmieš ich zneuctiť. Sú to tvoje blízke príbuzné. Bol by to hanebný skutok. 18Nesmieš si vziať k svojej manželke jej sestru ako vedľajšiu ženu; zneuctil by si ju\, keby si za jej života mal pomer s jej sestrou.19Nepribližuj sa k žene\, aby si mal s ňou pomer v období nečistoty jej obvyklého krvácania. 20Nebudeš súložiť so ženou svojho blížneho; tým by si sa poškvrnil. 21Nikoho zo svojho potomstva nedovoľ obetovať Molochovi; nesmieš znesvätiť meno svojho Boha. Ja som Hospodin. 22Nesmieš obcovať s mužom\, ako sa obcuje so ženou. To je ohavnosť. 23Nesmieš obcovať s nijakým zvieraťom; tým by si sa poškvrnil. Ani žena sa nesmie postaviť pred zviera\, aby sa s ním párila. To je hanebnosť.24Ničím z toho sa nepoškvrňujte; tým všetkým sa poškvrňovali národy\, ktoré vyháňam spred vás. 25Tak sa poškvrnila krajina\, ale ja som ju potrestal pre jej neprávosť\, a ona vyvrhla svojich obyvateľov. 26Zachovávajte moje ustanovenia a prikázania\, aby ste sa nedopustili ničoho z týchto ohavností\, ani domorodec\, ani cudzinec\, ktorý býva medzi vami. 27Všetkých týchto ohavností sa dopúšťal ľud tejto krajiny\, ktorý bol pred vami\, takže krajina bola znečistená. 28Aj vás vyvrhne krajina\, ak ju znečistíte\, ako vyvrhla národy\, ktoré boli pred vami. 29A každý\, kto by sa dopúšťal niečoho z týchto ohavností\, nech je odstránený spomedzi svojho ľudu. 30Zachovávajte teda moje ustanovenia. Nekonajte nič z tých ohavných zvyklostí\, ktoré sa páchali pred vami. Nepoškvrňujte sa nimi. Ja som Hospodin\, váš Boh.‘“ \n Rimanom 3\, 21Teraz však je zjavená Božia spravodlivosť bez Zákona dosvedčená Zákonom a Prorokmi. 22Božia spravodlivosť skrze vieru Ježiša Krista pre všetkých\, čo veria. Niet totiž rozdielu\, 23lebo všetci zhrešili a nemajú Božiu slávu. 24Ospravedlňovaní sú zadarmo\, jeho milosťou\, vykúpením v Ježišovi Kristovi. 25Boh ho ustanovil za prostriedok zmierenia skrze jeho krv prostredníctvom viery. Tak Boh preukázal svoju spravodlivosť\, keď prehliadol hriechy\, ktoré boli spáchané už skôr\, 26v čase Božej zhovievavosti\, a aby ukázal svoju spravodlivosť v terajšom čase\, takže sám je spravodlivý a ospravedlňuje toho\, kto žije z Ježišovej viery.
URL:https://radostnesrdce.sk/udalost/3-mojzisova-18-rimanom-321-26/
CATEGORIES:Denné čítanie
ATTACH;FMTTYPE=image/png:https://radostnesrdce.sk/wp-content/uploads/2020/05/ut-1030x541-1.png
END:VEVENT
END:VCALENDAR