BEGIN:VCALENDAR
VERSION:2.0
PRODID:-//Radostné srdce - ECPv6.15.18//NONSGML v1.0//EN
CALSCALE:GREGORIAN
METHOD:PUBLISH
X-ORIGINAL-URL:https://radostnesrdce.sk
X-WR-CALDESC:Udalosti pre Radostné srdce
REFRESH-INTERVAL;VALUE=DURATION:PT1H
X-Robots-Tag:noindex
X-PUBLISHED-TTL:PT1H
BEGIN:VTIMEZONE
TZID:Europe/Bratislava
BEGIN:DAYLIGHT
TZOFFSETFROM:+0100
TZOFFSETTO:+0200
TZNAME:CEST
DTSTART:20250330T010000
END:DAYLIGHT
BEGIN:STANDARD
TZOFFSETFROM:+0200
TZOFFSETTO:+0100
TZNAME:CET
DTSTART:20251026T010000
END:STANDARD
BEGIN:DAYLIGHT
TZOFFSETFROM:+0100
TZOFFSETTO:+0200
TZNAME:CEST
DTSTART:20260329T010000
END:DAYLIGHT
BEGIN:STANDARD
TZOFFSETFROM:+0200
TZOFFSETTO:+0100
TZNAME:CET
DTSTART:20261025T010000
END:STANDARD
BEGIN:DAYLIGHT
TZOFFSETFROM:+0100
TZOFFSETTO:+0200
TZNAME:CEST
DTSTART:20270328T010000
END:DAYLIGHT
BEGIN:STANDARD
TZOFFSETFROM:+0200
TZOFFSETTO:+0100
TZNAME:CET
DTSTART:20271031T010000
END:STANDARD
END:VTIMEZONE
BEGIN:VEVENT
DTSTART;VALUE=DATE:20260426
DTEND;VALUE=DATE:20260427
DTSTAMP:20260425T211058
CREATED:20260420T174757Z
LAST-MODIFIED:20260420T174757Z
UID:13800-1777161600-1777247999@radostnesrdce.sk
SUMMARY:3. Mojžišova 23;  Rimanom 5\,1-11
DESCRIPTION:3. Mojžišova 23\, 1Hospodin oslovil Mojžiša: 2„Povedz Izraelitom toto: ‚Hospodinove slávnosti\, ktoré budete zvolávať\, sú bohoslužobné zhromaždenia. Sú to moje slávnosti. 3Šesť dní sa bude pracovať\, v siedmy deň bude sobota sviatočného odpočinku\, deň bohoslužobného zhromaždenia. Nebudete vykonávať nijakú prácu. Je to sobota pre Hospodina vo všetkých vašich bydliskách. 4Toto sú Hospodinove slávnosti\, bohoslužobné zhromaždenia\, ktoré budete zvolávať v stanovený čas: 5v štrnásty deň prvého mesiaca večer bude Hospodinova Pascha. 6V pätnásty deň toho istého mesiaca je Hospodinova slávnosť Nekvasených chlebov. Sedem dní budete jesť nekvasené chleby. 7V prvý deň budete mať bohoslužobné zhromaždenie. Nebudete konať nijakú všednú prácu. 8Sedem dní budete prinášať Hospodinovi ohňovú obetu; na siedmy deň bude opäť bohoslužobné zhromaždenie\, vtedy nesmiete konať nijakú obvyklú prácu.‘“ 9Hospodin znova oslovil Mojžiša: 10„Povedz Izraelitom toto: ‚Keď prídete do krajiny\, ktorú vám dávam\, a zožnete obilie\, prvý snop zo svojej žatvy prinesiete kňazovi. 11On zamáva snopom pred Hospodinom\, aby ste sa mu zapáčili. V deň po sobote ho kňaz bude podávať zamávaním. 12V ten istý deň\, keď dáte mávať snopom\, obetujte bezchybného jednoročného baránka na spaľovanú obetu Hospodinovi. 13A k nej ako pokrmovú obetu pridáte dve desatiny jemnej múky zamiesenej s olejom ako ohňovú obetu príjemnej vône Hospodinovi spolu s nápojovou obetou štvrtiny hínu vína. 14Chlieb\, pražené zrno alebo tlčené zrno nebudete jesť až do toho dňa\, kým neprinesiete obetný dar svojmu Bohu. To je trvalé ustanovenie pre všetky vaše pokolenia vo všetkých vašich bydliskách. 15Od prvého dňa po sobote\, totiž odo dňa\, keď ste priniesli snop na podávanú obetu\, odpočítajte sedem úplných týždňov\, 16od prvého dňa po siedmej sobote počítajte päťdesiat dní. Potom prinesiete Hospodinovi novú pokrmovú obetu. 17Zo svojich sídlisk prinesiete dva chleby na podávanú obetu. Budú z dvoch desatín jemnej múky upečené s kvasom ako prvotiny Hospodinovi. 18S chlebom privediete sedem jednoročných bezchybných baránkov\, jedného mladého býčka a dva barany. Budú na spaľovanú obetu Hospodinovi s príslušnou pokrmovou obetou a nápojovou obetou ako ohňová obeta príjemnej vône Hospodinovi. 19Pripravte aj jedného capa na obetu za hriech a dva jednoročné baránky na obetu spoločenstva. 20Kňaz nech nimi zamáva nad chlebom prvotín ako podávanou obetou pred Hospodinom. Spolu s dvoma baránkami budú posvätné a budú patriť kňazovi. 21V ten istý deň zvolajte bohoslužobné zhromaždenie. Nebudete konať nijakú obvyklú prácu. To je trvalé ustanovenie pre všetky vaše pokolenia vo všetkých vašich bydliskách.22Keď sa bude vo vašej krajine zožínať obilie\, nezožni pole až po okraj a klasy po svojej žatve nevyzbieraj. Nechaj to chudobnému a cudzincovi. Ja som Hospodin\, váš Boh.‘“ 23Hospodin oslovil Mojžiša: 24„Povedz Izraelitom toto: ‚V prvý deň siedmeho mesiaca budete mať sviatočný odpočinok pripomenutý trúbením a bohoslužobným zhromaždením. 25Nebudete konať nijakú obvyklú prácu\, ale prinesiete ohňovú obetu Hospodinovi.‘“ 26Hospodin povedal Mojžišovi: 27„V desiaty deň toho istého siedmeho mesiaca bude Deň zmierenia. Budete mať bohoslužobné zhromaždenie. Budete sa kajať a prinášať Hospodinovi ohňovú obetu. 28V ten istý deň nebudete konať nijakú prácu\, lebo je to Deň zmierenia. Za vás sa bude konať obrad zmierenia pred Hospodinom\, vaším Bohom. 29Každý\, kto by sa v ten deň nekajal\, bude odstránený spomedzi svojho ľudu. 30Každého\, kto by konal v ten deň nejakú prácu\, vyhubím spomedzi svojho ľudu. 31Nebudete vykonávať nijakú prácu. To je trvalé ustanovenie pre vaše pokolenia vo všetkých vašich bydliskách. 32Bude to pre vás sobota sviatočného odpočinku. Budete sa kajať od večera deviateho dňa toho mesiaca. Od jedného večera do druhého budete svätiť svoju sobotu.“ 33Hospodin oslovil Mojžiša: 34„Povedz Izraelitom: ‚Od pätnásteho dňa toho istého siedmeho mesiaca bude sedem dní Hospodinovej slávnosti Stánkov. 35V prvý deň je bohoslužobné zhromaždenie. Nesmiete konať nijakú obvyklú prácu. 36Sedem dní prinášajte Hospodinovi ohňovú obetu\, na ôsmy deň budete mať bohoslužobné zhromaždenie a prinesiete ohňovú obetu Hospodinovi. Je to sviatočné zhromaždenie. Nesmiete konať nijakú obvyklú prácu.37Toto sú Hospodinove slávnosti\, na ktoré budete zvolávať bohoslužobné zhromaždenia\, aby ste prinášali Hospodinovi ohňovú obetu\, spaľovanú obetu\, pokrmovú obetu\, obetu s hostinou a nápojovú obetu podľa predpisu na jednotlivé dni 38okrem Hospodinových sobôt a okrem vašich darov pri rozličných sľuboch\, ako aj všetkých vašich dobrovoľných obiet\, ktoré budete dávať Hospodinovi.39V pätnásty deň siedmeho mesiaca\, keď z poľa zoberiete úrodu\, budete sedem dní sláviť Hospodinovu slávnosť. V prvý deň bude sviatočný odpočinok\, ale aj na ôsmy deň bude sviatočný odpočinok. 40V prvý deň si vezmete ovocie z ušľachtilých stromov\, palmové ratolesti\, vetvy listnatých stromov a potočných vŕb a sedem dní sa budete radovať pred Hospodinom\, svojím Bohom. 41Sväťte ju ako Hospodinovu slávnosť sedem dní v roku. Je to trvalé ustanovenie pre vaše pokolenia. Sväťte ho v siedmom mesiaci. 42Sedem dní bývajte v stánkoch. Všetci domorodci v Izraeli majú bývať v stánkoch\, 43aby vaše pokolenia vedeli\, že som dal Izraelitom bývať v stánkoch\, keď som ich vyviedol z Egypta. Ja som Hospodin\, váš Boh.‘“ 44Takto Mojžiš vyhlásil Izraelitom Hospodinove slávnosti. \n Rimanom 5\, 1Keď sme teda ospravedlnení z viery\, máme pokoj s Bohom skrze nášho Pána Ježiša Krista. 2Skrze neho sme vierou získali aj prístup k milosti\, v ktorej zostávame\, a chválime sa nádejou na Božiu slávu. 3No nielen to\, ale chválime sa aj súženiami\, lebo vieme\, že súženie vedie k vytrvalosti\, 4vytrvalosť k skúsenosti\, skúsenosť k nádeji. 5A nádej nezahanbuje\, lebo Božia láska je rozliata v našich srdciach skrze Ducha Svätého\, ktorého sme dostali. 6Veď Kristus v určenom čase\, keď sme boli ešte bezmocní\, zomrel za bezbožných. 7Sotvakto totiž zomrie za spravodlivého\, aj keď za dobrého sa azda niekto odhodlá zomrieť. 8No Boh dokazuje svoju lásku k nám tým\, že Kristus zomrel za nás\, keď sme boli ešte hriešni. 9Tým skôr teraz\, keď sme boli ospravedlnení jeho krvou\, budeme skrze neho zachránení pred hnevom. 10Ak sme smrťou jeho Syna boli zmierení s Bohom\, keď sme boli ešte nepriateľmi\, tým skôr budeme zachránení jeho životom po tom\, keď sme boli zmierení. 11A nielen to\, ale aj Bohom sa chválime skrze nášho Pána Ježiša Krista\, skrze ktorého sme teraz dostali zmierenie.
URL:https://radostnesrdce.sk/udalost/3-mojzisova-23-rimanom-51-11/
CATEGORIES:Denné čítanie
ATTACH;FMTTYPE=image/png:https://radostnesrdce.sk/wp-content/uploads/2020/05/ne-1030x541-1.png
END:VEVENT
BEGIN:VEVENT
DTSTART;VALUE=DATE:20260427
DTEND;VALUE=DATE:20260428
DTSTAMP:20260425T211058
CREATED:20260420T174950Z
LAST-MODIFIED:20260420T174950Z
UID:13802-1777248000-1777334399@radostnesrdce.sk
SUMMARY:3. Mojžišova 24;  Rimanom 5\,12-17
DESCRIPTION:3. Mojžišova 24\, 1Hospodin oslovil Mojžiša: 2„Prikáž Izraelitom\, nech ti prinesú čistý vylisovaný olivový olej na svietenie\, aby sa tak vo svietniku ustavične udržiavalo svetlo. 3Áron ho bude ustavične od večera do rána obsluhovať pred Hospodinom\, a to pred oponou svedectva v stane stretávania. To je trvalé ustanovenie pre vaše pokolenia. 4Áron bude ustavične obsluhovať lampy na čistom svietniku pred Hospodinom. 5Vezmi jemnú múku a upeč z nej dvanásť chlebov. Jeden bochník bude z dvoch desatín efy. 6Poukladaj ich pred Hospodinom na čistý stôl do dvoch stĺpcov\, šesť v každom stĺpci. 7Na každý stôl pridaj čisté kadidlo\, aby bolo pri chlebe ako pripomienka na ohňovú obetu Hospodinovi. 8Neprestajne\, v každý sobotný deň ich budeš ukladať pred Hospodinom. Bude to medzi Izraelitmi ako večná zmluva. 9Chleby budú patriť Áronovi a jeho synom. Zjedia ich na posvätnom mieste\, lebo je to preňho svätosvätá časť ohňových obiet Hospodinovi. To je trvalé ustanovenie.“ 10Raz vyšiel syn Izraelitky a Egypťana medzi Izraelitov. Syn Izraelitky sa v tábore pohádal s istým Izraelitom. 11Tento syn Izraelitky\, dcéry Dibriho z Dánovho kmeňa\, ktorá sa volala Šelomít\, sa rúhal Božiemu menu a zlorečil. Priviedli ho teda k Mojžišovi 12a dali ho do väzenia\, kým nedostanú rozhodnutie z Hospodinových úst.13Hospodin povedal Mojžišovi: 14„Rúhača daj vyviesť z tábora. Tam mu všetci\, čo ho počuli\, položia ruky na hlavu a celá pospolitosť ho ukameňuje. 15Izraelitom povedz: ‚Ktokoľvek zlorečil svojmu Bohu\, bude niesť následky svojho hriechu. 16Každý\, kto by zlorečil Hospodinovmu menu\, musí zomrieť.‘ Celá pospolitosť ho ukameňuje. Tak cudzinec ako aj domorodec budú usmrtení\, keď budú zlorečiť menu Hospodina.17Ak niekto zabije človeka\, musí zomrieť. 18Kto zabije domáce zviera\, musí ho nahradiť; život za život. 19Ak niekto poraní svojho súkmeňovca\, nech mu urobia tak\, ako urobil on: 20zlomenina za zlomeninu\, oko za oko\, zub za zub; akú ranu spôsobil\, takú nech spôsobia aj jemu. 21Kto zabije domáce zviera\, musí ho nahradiť. Kto zabije človeka\, musí zomrieť. 22Rovnaké právo budete mať pre cudzinca ako pre domorodca. Ja som Hospodin\, váš Boh.“ 23Keď to Mojžiš povedal Izraelitom\, vyviedli rúhača z tábora a ukameňovali ho. Izraeliti urobili tak\, ako Hospodin prikázal Mojžišovi. \nRimanom 5\, 12A tak: Cez jedného človeka vošiel do sveta hriech a cez hriech smrť. Takto prešla smrť na všetkých ľudí\, pretože všetci zhrešili. 13Hriech bol totiž vo svete už aj pred Zákonom\, ale ak niet Zákona\, hriech sa neráta. 14Ale smrť vládla od Adama po Mojžiša aj nad tými\, ktorí zhrešili iným spôsobom ako Adam. Adam je predobrazom toho\, ktorý mal prísť.15S darom milosti to však nie je tak ako s priestupkom. Lebo ak pre priestupok jedného mnohí zomreli\, oveľa viac sa v mnohých rozhojnila Božia milosť a dar z milosti jedného človeka\, Ježiša Krista. 16A s týmto darom to nie je tak ako s tým\, čo prišlo skrze jedného\, ktorý zhrešil: Súd viedol od jedného pádu k odsúdeniu\, ale dar milosti vedie od mnohých priestupkov k ospravedlneniu. 17Kým pre priestupok jedného zavládla smrť skrze tohto jedného\, omnoho skôr tí\, čo dostávajú hojnosť milosti a daru spravodlivosti\, budú kraľovať v živote skrze jedného\, Ježiša Krista. 
URL:https://radostnesrdce.sk/udalost/3-mojzisova-24-rimanom-512-17/
CATEGORIES:Denné čítanie
ATTACH;FMTTYPE=image/png:https://radostnesrdce.sk/wp-content/uploads/2020/05/po-1030x541-1.png
END:VEVENT
END:VCALENDAR